BEGIN:VCALENDAR
VERSION:2.0
PRODID:-//The Learning Marketplace - ECPv6.9.1//NONSGML v1.0//EN
CALSCALE:GREGORIAN
METHOD:PUBLISH
X-WR-CALNAME:The Learning Marketplace
X-ORIGINAL-URL:https://thelearningmarketplace.com
X-WR-CALDESC:Events for The Learning Marketplace
REFRESH-INTERVAL;VALUE=DURATION:PT1H
X-Robots-Tag:noindex
X-PUBLISHED-TTL:PT1H
BEGIN:VTIMEZONE
TZID:America/New_York
BEGIN:DAYLIGHT
TZOFFSETFROM:-0500
TZOFFSETTO:-0400
TZNAME:EDT
DTSTART:20220313T070000
END:DAYLIGHT
BEGIN:STANDARD
TZOFFSETFROM:-0400
TZOFFSETTO:-0500
TZNAME:EST
DTSTART:20221106T060000
END:STANDARD
END:VTIMEZONE
BEGIN:VEVENT
DTSTART;TZID=America/New_York:20221127T130000
DTEND;TZID=America/New_York:20221127T140000
DTSTAMP:20260423T123811
CREATED:20221019T101755Z
LAST-MODIFIED:20221024T091605Z
UID:19608-1669554000-1669557600@thelearningmarketplace.com
SUMMARY:Support vs. Spite: Create a Kinder World Through Youth!
DESCRIPTION:In this Live Experience\, youth will learn how best to manage their emotions and actions in order to create a more supportive and kind society! The better the youth\, the better the world! \nSupport vs. Spite: Unlocking the Secrets to Uplifting Humanity  will be the basis for this Live Experience\, Please be sure to download and review it before the Live Experience starts! \nAll youth must have an active subscription*. \nThere will be bitcoin giveaways in this Live Experience! Bitcoin can be used to purchase NFTs! \n*Contact us if you need a scholarship from the Youthful Savings Foundation. We fundamentally believe in economic empowerment for all and no youth will be denied access to our class!
URL:https://thelearningmarketplace.com/event/support-vs-spite-create-a-kinder-world-through-youth/
LOCATION:Virtual
ATTACH;FMTTYPE=image/png:https://thelearningmarketplace.com/wp-content/uploads/2022/10/Support-vs-Spite_TLM-2.png
END:VEVENT
END:VCALENDAR