BEGIN:VCALENDAR
VERSION:2.0
PRODID:-//The Learning Marketplace - ECPv6.9.1//NONSGML v1.0//EN
CALSCALE:GREGORIAN
METHOD:PUBLISH
X-WR-CALNAME:The Learning Marketplace
X-ORIGINAL-URL:https://thelearningmarketplace.com
X-WR-CALDESC:Events for The Learning Marketplace
REFRESH-INTERVAL;VALUE=DURATION:PT1H
X-Robots-Tag:noindex
X-PUBLISHED-TTL:PT1H
BEGIN:VTIMEZONE
TZID:America/Los_Angeles
BEGIN:DAYLIGHT
TZOFFSETFROM:-0800
TZOFFSETTO:-0700
TZNAME:PDT
DTSTART:20220313T100000
END:DAYLIGHT
BEGIN:STANDARD
TZOFFSETFROM:-0700
TZOFFSETTO:-0800
TZNAME:PST
DTSTART:20221106T090000
END:STANDARD
END:VTIMEZONE
BEGIN:VEVENT
DTSTART;TZID=America/Los_Angeles:20221115T170000
DTEND;TZID=America/Los_Angeles:20221115T180000
DTSTAMP:20260423T195737
CREATED:20221003T112504Z
LAST-MODIFIED:20221003T112504Z
UID:19540-1668531600-1668535200@thelearningmarketplace.com
SUMMARY:The Art of Selling in the Digital Age
DESCRIPTION:In the Art of Selling in the Digital Age\, youth will learn how best to utilize the power of digital marketing to best brand themselves and thrive. Youth will learn how to use the power of the internet to best market themselves and their business. Traditional sales practices will also be discussed so youth can learn how to sell both online and in person. As 90% of youth aged 13-17 years old are on social media\, an emphasis on utilizing the digital tools to economically empower themselves and their community will be emphasized. \nThis Live Experience will be in person and ideal for youth that are future and active vendors on Youthful Savings Marketplace.
URL:https://thelearningmarketplace.com/event/the-art-of-selling-in-the-digital-age/
LOCATION:Santa Monica Public Library: Pico Branch\, 2201 Pico Blvd\, Santa Monica\, California\, 90405
ATTACH;FMTTYPE=image/png:https://thelearningmarketplace.com/wp-content/uploads/2022/10/Learning-Exercise-Hows-it-going-with-TLM.png
END:VEVENT
END:VCALENDAR