BEGIN:VCALENDAR
VERSION:2.0
PRODID:-//The Learning Marketplace - ECPv6.9.1//NONSGML v1.0//EN
CALSCALE:GREGORIAN
METHOD:PUBLISH
X-WR-CALNAME:The Learning Marketplace
X-ORIGINAL-URL:https://thelearningmarketplace.com
X-WR-CALDESC:Events for The Learning Marketplace
REFRESH-INTERVAL;VALUE=DURATION:PT1H
X-Robots-Tag:noindex
X-PUBLISHED-TTL:PT1H
BEGIN:VTIMEZONE
TZID:America/New_York
BEGIN:DAYLIGHT
TZOFFSETFROM:-0500
TZOFFSETTO:-0400
TZNAME:EDT
DTSTART:20200308T070000
END:DAYLIGHT
BEGIN:STANDARD
TZOFFSETFROM:-0400
TZOFFSETTO:-0500
TZNAME:EST
DTSTART:20201101T060000
END:STANDARD
TZID:America/Los_Angeles
BEGIN:DAYLIGHT
TZOFFSETFROM:-0800
TZOFFSETTO:-0700
TZNAME:PDT
DTSTART:20200308T100000
END:DAYLIGHT
BEGIN:STANDARD
TZOFFSETFROM:-0700
TZOFFSETTO:-0800
TZNAME:PST
DTSTART:20201101T090000
END:STANDARD
END:VTIMEZONE
BEGIN:VEVENT
DTSTART;TZID=America/New_York:20200722T130000
DTEND;TZID=America/New_York:20200827T130000
DTSTAMP:20260422T052730
CREATED:20200701T000109Z
LAST-MODIFIED:20200701T005246Z
UID:11760-1595422800-1598533200@thelearningmarketplace.com
SUMMARY:Virtual Summer Camp x Children's Aid NYC
DESCRIPTION:Let’s enjoy the summer by connecting with youth across the world. Learners will receive a customized learning plan through our Learner Assessment Test. Youth will complete weekly learning exercises in subject areas like entrepreneurship\, emotional intelligence\, communication skills and storytelling. We will recap the week with virtual live sessions where learners can connect with others. \nThis camp is closed to Children’s Aid NYC participants only. \nYouthful Savings Foundation will be providing cash prizes throughout the camp.
URL:https://thelearningmarketplace.com/event/virtual-summer-camp-x-childrens-aid-nyc/
LOCATION:Virtual
ATTACH;FMTTYPE=image/jpeg:https://thelearningmarketplace.com/wp-content/uploads/edd/2020/03/School-Subscription.jpg
END:VEVENT
BEGIN:VEVENT
DTSTART;TZID=America/Los_Angeles:20200816T160000
DTEND;TZID=America/Los_Angeles:20200816T173000
DTSTAMP:20260422T052730
CREATED:20200122T235334Z
LAST-MODIFIED:20200414T152003Z
UID:10273-1597593600-1597599000@thelearningmarketplace.com
SUMMARY:The Art of Storytelling x Earth Day - Delayed Due to Covid-19
DESCRIPTION:This special event with Apple will help participants craft a story for a social cause they care about. Participants will utilize the Art of Storytelling learning exercise on Apple iPads. Today at Apple professionals will then help participants create a video that articulates how each of us can create change in our communities and take care of the earth better. \nThis session will be co-taught by Apple and Somya Munjal
URL:https://thelearningmarketplace.com/event/the-art-of-storytelling-x-earth-day/
LOCATION:Apple Store\, 1415 3rd Street Promenade\, Santa Monica\, CA\, 90401\, United States
CATEGORIES:Event
ATTACH;FMTTYPE=image/jpeg:https://thelearningmarketplace.com/wp-content/uploads/2020/01/love-and-power-.jpg
END:VEVENT
END:VCALENDAR