BEGIN:VCALENDAR
VERSION:2.0
PRODID:-//The Learning Marketplace - ECPv6.9.1//NONSGML v1.0//EN
CALSCALE:GREGORIAN
METHOD:PUBLISH
X-ORIGINAL-URL:https://thelearningmarketplace.com
X-WR-CALDESC:Events for The Learning Marketplace
REFRESH-INTERVAL;VALUE=DURATION:PT1H
X-Robots-Tag:noindex
X-PUBLISHED-TTL:PT1H
BEGIN:VTIMEZONE
TZID:America/Los_Angeles
BEGIN:DAYLIGHT
TZOFFSETFROM:-0800
TZOFFSETTO:-0700
TZNAME:PDT
DTSTART:20190310T100000
END:DAYLIGHT
BEGIN:STANDARD
TZOFFSETFROM:-0700
TZOFFSETTO:-0800
TZNAME:PST
DTSTART:20191103T090000
END:STANDARD
TZID:Australia/Melbourne
BEGIN:STANDARD
TZOFFSETFROM:+1100
TZOFFSETTO:+1000
TZNAME:AEST
DTSTART:20190406T160000
END:STANDARD
BEGIN:DAYLIGHT
TZOFFSETFROM:+1000
TZOFFSETTO:+1100
TZNAME:AEDT
DTSTART:20191005T160000
END:DAYLIGHT
TZID:America/New_York
BEGIN:DAYLIGHT
TZOFFSETFROM:-0500
TZOFFSETTO:-0400
TZNAME:EDT
DTSTART:20190310T070000
END:DAYLIGHT
BEGIN:STANDARD
TZOFFSETFROM:-0400
TZOFFSETTO:-0500
TZNAME:EST
DTSTART:20191103T060000
END:STANDARD
END:VTIMEZONE
BEGIN:VEVENT
DTSTART;TZID=America/Los_Angeles:20191001T163000
DTEND;TZID=America/Los_Angeles:20191001T180000
DTSTAMP:20260422T015425
CREATED:20190919T112626Z
LAST-MODIFIED:20190919T185024Z
UID:10127-1569947400-1569952800@thelearningmarketplace.com
SUMMARY:Cultivating Heart Intelligence
DESCRIPTION:Youth will learn about heart-centered decision making and how to prevent the cycle of bullying. Youth are asked to bring a digital download of the Cultivating Heart Intelligence learning exercise found HERE. \nThis event will be facilitated by Danny Donayre. He is the Chief Intuitive Marketing Officer of The Learning Marketplace and a world-class life coach. \nYouth are required to download (on a laptop or iPad) THIS learning exercise.
URL:https://thelearningmarketplace.com/event/cultivating-heart-intelligence-2/
LOCATION:Capital One Cafe Santa Monica\, 401 Broadway\, Santa Monica\, CA\, 90401\, United States
ATTACH;FMTTYPE=image/jpeg:https://thelearningmarketplace.com/wp-content/uploads/2019/09/Heart.jpeg
END:VEVENT
BEGIN:VEVENT
DTSTART;TZID=Australia/Melbourne:20191002T100000
DTEND;TZID=Australia/Melbourne:20191002T170000
DTSTAMP:20260422T015425
CREATED:20190724T022609Z
LAST-MODIFIED:20191104T152542Z
UID:9869-1570010400-1570035600@thelearningmarketplace.com
SUMMARY:My Own Business Challenge in a Day!
DESCRIPTION:My Own Business Challenge helps youth learn necessary financial education and entrepreneurship skills. This challenge further enhances one’s ability to critically think and create consciously. The challenge is designed to encourage youth to use their energy to solve world problems through the power of entrepreneurship. Learners will walk away with a tangible business idea and sustainable fiscal responsibility that will help them create and sustain their business idea. Youth ages 14+ are welcome to take part in this transformational experience.* \nThis experiential learning class will be taught by Somya Munjal – founder of Youthful Savings. \nThis sponsored live experience will take place at NAB Village. Investment will be provided by the Youthful Savings Foundation for all those that complete the program. \n*Any participant under 18 must have a parent or guardian supervising at all times\, there will be space available for you to work whilst the program is running. \nPre Assessment Test HERE \nPost Assessment Test HERE \nPost Program Test HERE
URL:https://thelearningmarketplace.com/event/my-own-business-challenge-one-day-event/
LOCATION:The Village Docklands at NAB\, 700 Bourke St.\, Melbourne\, Victoria\, Australia
ATTACH;FMTTYPE=image/jpeg:https://thelearningmarketplace.com/wp-content/uploads/2019/07/YS-and-NAB-event-1.jpg
END:VEVENT
BEGIN:VEVENT
DTSTART;TZID=America/New_York:20191011T123000
DTEND;TZID=America/New_York:20191011T180000
DTSTAMP:20260422T015425
CREATED:20190807T125113Z
LAST-MODIFIED:20191011T164119Z
UID:9982-1570797000-1570816800@thelearningmarketplace.com
SUMMARY:My Own Business Challenge x Uncommon Schools
DESCRIPTION:My Own Business Challenge helps youth learn necessary financial education and entrepreneurship skills. This challenge further enhances one’s ability to critically think and create consciously. The challenge is designed to encourage youth to use their energy to solve world problems through the power of entrepreneurship. Learners will walk away with a tangible business and sustainable fiscal responsibility that will help them create and sustain their business idea. Business investment will be provided by the Youthful Savings Foundation. \nThis program is in partnership with Uncommon Schools and part of their 7th and 8th grade math class programming. This interactive experience will be taught by Somya Munjal and Myles Nurse. \nPre-Assessment Test HERE \nPost – Assessment Test HERE
URL:https://thelearningmarketplace.com/event/my-own-business-challenge-x-uncommon-schools/
LOCATION:Chase Bank\, 28 LIberty\, New York\, NY\, 10038
ATTACH;FMTTYPE=image/jpeg:https://thelearningmarketplace.com/wp-content/uploads/2019/07/Capital-One-Instagram-1.jpg
END:VEVENT
BEGIN:VEVENT
DTSTART;TZID=America/Los_Angeles:20191015T163000
DTEND;TZID=America/Los_Angeles:20191015T180000
DTSTAMP:20260422T015425
CREATED:20191003T224545Z
LAST-MODIFIED:20191004T042536Z
UID:10184-1571157000-1571162400@thelearningmarketplace.com
SUMMARY:7 Years in 7 Days (A Life of Now) Turning Lifelong Dreams and Purpose Into Weekly Goals
DESCRIPTION:Youth will learn about the power of reflective self talk\, and the proactive creation of manageable action steps toward a larger goal. Every attendee will receive a free copy of 7 years in 7 Days (a $15 value) and be guided through a self reflection exercise in a group setting. 7 Years in 7 Days: A Life of Now\, is a weekly-guided journal of original affirmations for inspired self-reflection and self-actualization. This interactive book of weekly quotes and exploratory questions\, allows the reader to reflect on what is truly important to them and how they can take weekly actions toward embodying their deepest beliefs and values by setting tangible goals to that end. This event will be facilitated by Danny Donayre. He is the Chief Intuitive Marketing Officer of The Learning Marketplace and a world-class life coach.
URL:https://thelearningmarketplace.com/event/7-years-in-7-days-a-life-of-now-turning-lifelong-dreams-and-purpose-into-weekly-goals/
LOCATION:Capital One Cafe Santa Monica\, 401 Broadway\, Santa Monica\, CA\, 90401\, United States
ATTACH;FMTTYPE=image/jpeg:https://thelearningmarketplace.com/wp-content/uploads/2019/10/7_Years_in_7_Days_book_cover-3.jpg
END:VEVENT
BEGIN:VEVENT
DTSTART;TZID=America/Los_Angeles:20191029T163000
DTEND;TZID=America/Los_Angeles:20191029T180000
DTSTAMP:20260422T015425
CREATED:20191016T140755Z
LAST-MODIFIED:20191022T004003Z
UID:10237-1572366600-1572372000@thelearningmarketplace.com
SUMMARY:Understanding History in order to Create a Better Present and Future
DESCRIPTION:During this Live Experience\, youth will learn about ancient cultures and how they can learn from the past in order to build a better present and future. Deep reflection exercises and creative thinking will be utilized in order to really harness the power of the youth. \nYouth are encouraged to download THIS exercise and bring an iPad or Laptop to the experience. This experience will be taught by Somya Munjal and Danny D0nayre.
URL:https://thelearningmarketplace.com/event/understanding-history-in-order-to-create-a-better-present-and-future/
LOCATION:Capital One Cafe Santa Monica\, 401 Broadway\, Santa Monica\, CA\, 90401\, United States
ATTACH;FMTTYPE=image/jpeg:https://thelearningmarketplace.com/wp-content/uploads/2019/03/Pyramid-of-Giza-1.jpg
END:VEVENT
END:VCALENDAR