BEGIN:VCALENDAR
VERSION:2.0
PRODID:-//The Learning Marketplace - ECPv6.9.1//NONSGML v1.0//EN
CALSCALE:GREGORIAN
METHOD:PUBLISH
X-WR-CALNAME:The Learning Marketplace
X-ORIGINAL-URL:https://thelearningmarketplace.com
X-WR-CALDESC:Events for The Learning Marketplace
REFRESH-INTERVAL;VALUE=DURATION:PT1H
X-Robots-Tag:noindex
X-PUBLISHED-TTL:PT1H
BEGIN:VTIMEZONE
TZID:America/Los_Angeles
BEGIN:DAYLIGHT
TZOFFSETFROM:-0800
TZOFFSETTO:-0700
TZNAME:PDT
DTSTART:20190310T100000
END:DAYLIGHT
BEGIN:STANDARD
TZOFFSETFROM:-0700
TZOFFSETTO:-0800
TZNAME:PST
DTSTART:20191103T090000
END:STANDARD
END:VTIMEZONE
BEGIN:VEVENT
DTSTART;TZID=America/Los_Angeles:20190406T090000
DTEND;TZID=America/Los_Angeles:20190406T160000
DTSTAMP:20260425T153234
CREATED:20190307T024833Z
LAST-MODIFIED:20190329T233649Z
UID:9314-1554541200-1554566400@thelearningmarketplace.com
SUMMARY:City of Santa Monica Financial Independence Day
DESCRIPTION:Join in on a fun and empowering day of financial literacy and economic empowerment. Seminars include: \n-Building and repairing your credit\n-Paying for college\n-Qualifying for rental housing\n-Learning the tax code\n-Budgeting and saving\n-Creating and sustaining wealth \nHigh school youth will have the option to try our Handle Your Business programming and elementary/ middle school youth will have the option to our Kids and Money programming! \nLunch provided by Asian Box Restaurant Group. \nAnd so much more!
URL:https://thelearningmarketplace.com/event/city-of-santa-monica-financial-independence-day/
LOCATION:Virgina Ave Park Campus\, 2201 Pico Blvd\, Santa Monica\, CA\, 90405
ATTACH;FMTTYPE=image/jpeg:https://thelearningmarketplace.com/wp-content/uploads/2019/03/SaMo_HSDCampaign_EnglishFlyer_jbtv3-1-1.jpg
END:VEVENT
BEGIN:VEVENT
DTSTART;TZID=America/Los_Angeles:20190423T153000
DTEND;TZID=America/Los_Angeles:20190831T170000
DTSTAMP:20260425T153234
CREATED:20190202T143805Z
LAST-MODIFIED:20220123T122859Z
UID:9192-1556033400-1567270800@thelearningmarketplace.com
SUMMARY:My Own Business Challenge
DESCRIPTION:My Own Business Challenge helps youth learn necessary financial education and entrepreneurship skills. This challenge further enhances one’s ability to critically think and create consciously. The challenge is designed to encourage youth to use their energy to solve world problems through the power of entrepreneurship. \nThis challenge has been successfully implemented at Uncommon Schools\, Newark High School\, Avondale Meadows Academy\, Martha’s Table\, City of Santa Monica\, Valley Education for Employment System and many other institutions and homes. My Own Business Challenge is the premier way to encourage youth to be economically empowered\, productive citizens and conscious transactors! If you want your youth to change the world through the power of entrepreneurship and creativity\, this challenge is for you! \nYouth will learn how to build apps and storyboard via Today at Apple @ the Apple Store in Santa Monica\, CA on 5/28/19. \nInvestment will be provided by the Youthful Savings Foundation for all those that complete the program.
URL:https://thelearningmarketplace.com/event/my-own-business-challenge/
LOCATION:Capital One Cafe Santa Monica\, 401 Broadway\, Santa Monica\, CA\, 90401\, United States
ATTACH;FMTTYPE=image/jpeg:https://thelearningmarketplace.com/wp-content/uploads/2019/02/Capital-One-post-card-3.jpg
END:VEVENT
END:VCALENDAR