BEGIN:VCALENDAR
VERSION:2.0
PRODID:-//The Learning Marketplace - ECPv6.9.1//NONSGML v1.0//EN
CALSCALE:GREGORIAN
METHOD:PUBLISH
X-ORIGINAL-URL:https://thelearningmarketplace.com
X-WR-CALDESC:Events for The Learning Marketplace
REFRESH-INTERVAL;VALUE=DURATION:PT1H
X-Robots-Tag:noindex
X-PUBLISHED-TTL:PT1H
BEGIN:VTIMEZONE
TZID:America/New_York
BEGIN:DAYLIGHT
TZOFFSETFROM:-0500
TZOFFSETTO:-0400
TZNAME:EDT
DTSTART:20260308T070000
END:DAYLIGHT
BEGIN:STANDARD
TZOFFSETFROM:-0400
TZOFFSETTO:-0500
TZNAME:EST
DTSTART:20261101T060000
END:STANDARD
END:VTIMEZONE
BEGIN:VEVENT
DTSTART;TZID=America/New_York:20260426T130000
DTEND;TZID=America/New_York:20260426T140000
DTSTAMP:20260425T163415
CREATED:20260116T203014Z
LAST-MODIFIED:20260216T122300Z
UID:31303-1777208400-1777212000@thelearningmarketplace.com
SUMMARY:Youth Financial Literacy Series: Debt Avoidance and Credit Score
DESCRIPTION:This Live Experience is the fourth part in educating youth on best financial practices for success! Youth will learn about common debt traps and how to avoid them.  \nYouth Financial Literacy 101 will be the basis for this Live Experience. Please be sure to download and review it before the Live Experience starts! \nAll youth must have an active subscription*. \n*Contact us if you need a scholarship from the Youthful Savings Foundation. We fundamentally believe in economic empowerment for all\, and no youth will be denied access to our class!
URL:https://thelearningmarketplace.com/event/youth-financial-literacy-series-debt-avoidance-and-credit-score/
LOCATION:Virtual
CATEGORIES:Event,Featured
ATTACH;FMTTYPE=image/png:https://thelearningmarketplace.com/wp-content/uploads/2026/01/Debt-Management.png
END:VEVENT
BEGIN:VEVENT
DTSTART;TZID=America/New_York:20260531T130000
DTEND;TZID=America/New_York:20260531T140000
DTSTAMP:20260425T163415
CREATED:20260116T192734Z
LAST-MODIFIED:20260217T142050Z
UID:31295-1780232400-1780236000@thelearningmarketplace.com
SUMMARY:Youth Financial Literacy Series: Credit Score 101
DESCRIPTION:This Live Experience is the final part in educating youth on best financial practices for success! This Live Experience will educate youth on the importance of credit scores\, how they are calculated\, and why they matter. Youth will also learn how to improve their credit scores and recommended tools.  \nYouth Financial Literacy 101 will be the basis for this Live Experience. Please be sure to download and review it before the Live Experience starts! \nAll youth must have an active subscription*. \n*Contact us if you need a scholarship from the Youthful Savings Foundation. We fundamentally believe in economic empowerment for all\, and no youth will be denied access to our class!
URL:https://thelearningmarketplace.com/event/youth-financial-literacy-series-understanding-your-credit-score/
LOCATION:Virtual
CATEGORIES:Event
ATTACH;FMTTYPE=image/png:https://thelearningmarketplace.com/wp-content/uploads/2026/01/Credit-Score.png
END:VEVENT
END:VCALENDAR