BEGIN:VCALENDAR
VERSION:2.0
PRODID:-//The Learning Marketplace - ECPv6.9.1//NONSGML v1.0//EN
CALSCALE:GREGORIAN
METHOD:PUBLISH
X-WR-CALNAME:The Learning Marketplace
X-ORIGINAL-URL:https://thelearningmarketplace.com
X-WR-CALDESC:Events for The Learning Marketplace
REFRESH-INTERVAL;VALUE=DURATION:PT1H
X-Robots-Tag:noindex
X-PUBLISHED-TTL:PT1H
BEGIN:VTIMEZONE
TZID:America/New_York
BEGIN:DAYLIGHT
TZOFFSETFROM:-0500
TZOFFSETTO:-0400
TZNAME:EDT
DTSTART:20260308T070000
END:DAYLIGHT
BEGIN:STANDARD
TZOFFSETFROM:-0400
TZOFFSETTO:-0500
TZNAME:EST
DTSTART:20261101T060000
END:STANDARD
END:VTIMEZONE
BEGIN:VEVENT
DTSTART;TZID=America/New_York:20260323T150000
DTEND;TZID=America/New_York:20260607T170000
DTSTAMP:20260424T040758
CREATED:20260213T185229Z
LAST-MODIFIED:20260218T141428Z
UID:31356-1774278000-1780851600@thelearningmarketplace.com
SUMMARY:Youth Employment Program x Arlington High School
DESCRIPTION:Youthful Savings is excited to partner with the Dutchess County Workforce Investment Board to offer youth empowering internships through the Youth Employment Program. \nYouth will be working in a technology-driven\, hybrid environment where they can learn marketing\, finance\, and technology skills. \nWork hours will be after school and no more than 10 hours a week. Youth will be paid minimum wage and be offered exciting career development programming beyond work experience opportunities.
URL:https://thelearningmarketplace.com/event/youth-employment-program-x-arlington-high-school-2/
LOCATION:Virtual
CATEGORIES:Event,Featured
ATTACH;FMTTYPE=image/gif:https://thelearningmarketplace.com/wp-content/uploads/2026/02/Youth-Employment-Program-Dutchess-County-TLM-1.gif
END:VEVENT
BEGIN:VEVENT
DTSTART;TZID=America/New_York:20260413T123000
DTEND;TZID=America/New_York:20260511T133000
DTSTAMP:20260424T040758
CREATED:20260417T222023Z
LAST-MODIFIED:20260417T232300Z
UID:31389-1776083400-1778506200@thelearningmarketplace.com
SUMMARY:Youth Financial Literacy 101 x Victory Collegiate High School
DESCRIPTION:Youthful Savings with New York City Public Schools Victory Collegiate High School will bring its newest Financial Literacy program to the youth. This program will follow the Youth Financial Literacy 101 Learning Exercise\, educating the youth on budgeting\, savings\, taxes\, credit\, and debt avoidance. Participants who attend all 5 sessions will receive a prepaid card from the Community Investment Fund.
URL:https://thelearningmarketplace.com/event/youth-financial-literacy-101-x-victory-collegiate-high-school/
LOCATION:Victory Collegiate High School\, 6565 Flatlands Ave\, Brooklyn\, NY\, 11236\, United States
CATEGORIES:Event
ATTACH;FMTTYPE=image/png:https://thelearningmarketplace.com/wp-content/uploads/2026/04/Youth-Financial-Literacy-101_1.png
END:VEVENT
BEGIN:VEVENT
DTSTART;TZID=America/New_York:20260416T123000
DTEND;TZID=America/New_York:20260514T133000
DTSTAMP:20260424T040758
CREATED:20260417T222624Z
LAST-MODIFIED:20260417T232218Z
UID:31393-1776342600-1778765400@thelearningmarketplace.com
SUMMARY:Youth Financial Literacy 101 x Brooklyn Community High School for Excellence and Equity
DESCRIPTION:Youthful Savings with New York City Public Schools Brooklyn High School for Excellence and Equity will bring its newest Financial Literacy program to the youth. This program will follow the Youth Financial Literacy 101 Learning Exercise\, educating the youth on budgeting\, savings\, taxes\, credit\, and debt avoidance. Participants who attend all 5 sessions will receive a prepaid card from the Community Investment Fund.
URL:https://thelearningmarketplace.com/event/youth-financial-literacy-101-x-brooklyn-community-high-school-for-excellence-and-equity/
LOCATION:Brooklyn Community High School for Excellence and Equity\, 6565 Flatlands Ave\, Brooklyn\, NY\, 11236\, United States
CATEGORIES:Event
ATTACH;FMTTYPE=image/png:https://thelearningmarketplace.com/wp-content/uploads/2026/04/Youth-Financial-Literacy-101_2.png
END:VEVENT
BEGIN:VEVENT
DTSTART;TZID=America/New_York:20260421T123000
DTEND;TZID=America/New_York:20260519T133000
DTSTAMP:20260424T040758
CREATED:20260417T223249Z
LAST-MODIFIED:20260417T232120Z
UID:31397-1776774600-1779197400@thelearningmarketplace.com
SUMMARY:Youth Financial Literacy 101 x High School for Medical Professions
DESCRIPTION:Youthful Savings with New York City Public Schools High School for Medical Professions will bring its newest Financial Literacy program to the youth. This program will follow the Youth Financial Literacy 101 Learning Exercise\, educating the youth on budgeting\, savings\, taxes\, credit\, and debt avoidance. Participants who attend all 5 sessions will receive a prepaid card from the Community Investment Fund.
URL:https://thelearningmarketplace.com/event/youth-financial-literacy-101-x-high-school-for-medical-professions/
LOCATION:High School for Medical Professions\, 1600 Rockaway Pkwy\, Brooklyn\, NY\, 11236\, United States
CATEGORIES:Event
ATTACH;FMTTYPE=image/png:https://thelearningmarketplace.com/wp-content/uploads/2026/04/Youth-Financial-Literacy-101_3.png
END:VEVENT
END:VCALENDAR