BEGIN:VCALENDAR
VERSION:2.0
PRODID:-//The Learning Marketplace - ECPv6.9.1//NONSGML v1.0//EN
CALSCALE:GREGORIAN
METHOD:PUBLISH
X-ORIGINAL-URL:https://thelearningmarketplace.com
X-WR-CALDESC:Events for The Learning Marketplace
REFRESH-INTERVAL;VALUE=DURATION:PT1H
X-Robots-Tag:noindex
X-PUBLISHED-TTL:PT1H
BEGIN:VTIMEZONE
TZID:America/Los_Angeles
BEGIN:DAYLIGHT
TZOFFSETFROM:-0800
TZOFFSETTO:-0700
TZNAME:PDT
DTSTART:20220313T100000
END:DAYLIGHT
BEGIN:STANDARD
TZOFFSETFROM:-0700
TZOFFSETTO:-0800
TZNAME:PST
DTSTART:20221106T090000
END:STANDARD
END:VTIMEZONE
BEGIN:VEVENT
DTSTART;TZID=America/Los_Angeles:20220303T153000
DTEND;TZID=America/Los_Angeles:20220421T170000
DTSTAMP:20260426T044316
CREATED:20220210T145719Z
LAST-MODIFIED:20220311T223339Z
UID:17377-1646321400-1650560400@thelearningmarketplace.com
SUMMARY:Virginia Avenue Park Teen Center x My Own Business Challenge
DESCRIPTION:Let’s kick off the spring by connecting with youth across the world! Learners will receive a customized learning plan through our Learner Assessment Test and join the global community of The Learning Marketplace! \nOur award winning program\, My Own Business Challenge\, will be the focus of this Live Experience. Youth will also get the opportunity to complete weekly self-paced learning exercises in subject areas like dispute and conflict resolution\, bitcoin education\, emotional intelligence\, communication skills and storytelling. \nAll future youth entrepreneurs have the ability to be global online business owners via Youthful Savings Marketplace. \nClass will be taught through hybrid learning via instructor led Google Classroom\, self-paced learning and in-person programming. This Live Experience is closed to Virginia Avenue Park Teen Center youth participants only. \nYouthful Savings Foundation will be providing cash prizes. Successful graduates of the program will receive $250 in business investment – available in cash or bitcoin! Graduation will be in person at Virginia Ave Park Teen Center on 4/21/22. Please invite family and friends for the celebration of you and your creation!
URL:https://thelearningmarketplace.com/event/my-own-business-challenge-x-virginia-avenue-park-teen-center/
LOCATION:Virgina Ave Park Campus\, 2201 Pico Blvd\, Santa Monica\, CA\, 90405
ATTACH;FMTTYPE=image/png:https://thelearningmarketplace.com/wp-content/uploads/2022/02/image.png
END:VEVENT
END:VCALENDAR