BEGIN:VCALENDAR
VERSION:2.0
PRODID:-//The Learning Marketplace - ECPv6.9.1//NONSGML v1.0//EN
CALSCALE:GREGORIAN
METHOD:PUBLISH
X-ORIGINAL-URL:https://thelearningmarketplace.com
X-WR-CALDESC:Events for The Learning Marketplace
REFRESH-INTERVAL;VALUE=DURATION:PT1H
X-Robots-Tag:noindex
X-PUBLISHED-TTL:PT1H
BEGIN:VTIMEZONE
TZID:America/New_York
BEGIN:DAYLIGHT
TZOFFSETFROM:-0500
TZOFFSETTO:-0400
TZNAME:EDT
DTSTART:20220313T070000
END:DAYLIGHT
BEGIN:STANDARD
TZOFFSETFROM:-0400
TZOFFSETTO:-0500
TZNAME:EST
DTSTART:20221106T060000
END:STANDARD
END:VTIMEZONE
BEGIN:VEVENT
DTSTART;TZID=America/New_York:20220227T130000
DTEND;TZID=America/New_York:20220227T143000
DTSTAMP:20260426T032603
CREATED:20220110T212938Z
LAST-MODIFIED:20220213T212840Z
UID:17114-1645966800-1645972200@thelearningmarketplace.com
SUMMARY:Youth\, Taxes and Bitcoin!
DESCRIPTION:Taxes can be confusing! Don’t let the confusion get in the way of financial freedom and economic empowerment. Fiscal (taxes) and monetary (bitcoin) policy reform can occur with you – the YOUTH! \nThis Live Experience embodies our belief in integrative learning which is best defined as the process of making connections among concepts and experiences so that information and skills can be applied to novel and complex issues or challenges. \nClass will be taught via Google Classroom. Please RSVP below and a link to the classroom will be provided 24 hours before class date. All youth must have an active subscription*. \nPlease be sure to download and review the following learning exercises prior to attending: \nYouth and Taxes \nBitcoin as an Agent for Change \nAll youth will receive $10 in BTC for attending this class!!! \n*Contact us if you need a scholarship from the Youthful Savings Foundation. We fundamentally believe in economic empowerment for all and no youth will be denied access to our class!
URL:https://thelearningmarketplace.com/event/youth-taxes-and-bitcoin/
LOCATION:Virtual
ATTACH;FMTTYPE=image/png:https://thelearningmarketplace.com/wp-content/uploads/2022/01/Youth-Taxes-Bitcoin-1-1.png
END:VEVENT
END:VCALENDAR