BEGIN:VCALENDAR
VERSION:2.0
PRODID:-//The Learning Marketplace - ECPv6.9.1//NONSGML v1.0//EN
CALSCALE:GREGORIAN
METHOD:PUBLISH
X-ORIGINAL-URL:https://thelearningmarketplace.com
X-WR-CALDESC:Events for The Learning Marketplace
REFRESH-INTERVAL;VALUE=DURATION:PT1H
X-Robots-Tag:noindex
X-PUBLISHED-TTL:PT1H
BEGIN:VTIMEZONE
TZID:UTC
BEGIN:STANDARD
TZOFFSETFROM:+0000
TZOFFSETTO:+0000
TZNAME:UTC
DTSTART:20210101T000000
END:STANDARD
TZID:America/New_York
BEGIN:DAYLIGHT
TZOFFSETFROM:-0500
TZOFFSETTO:-0400
TZNAME:EDT
DTSTART:20210314T070000
END:DAYLIGHT
BEGIN:STANDARD
TZOFFSETFROM:-0400
TZOFFSETTO:-0500
TZNAME:EST
DTSTART:20211107T060000
END:STANDARD
END:VTIMEZONE
BEGIN:VEVENT
DTSTART;TZID=UTC:20210712T080000
DTEND;TZID=UTC:20210820T170000
DTSTAMP:20260423T060632
CREATED:20210621T114848Z
LAST-MODIFIED:20210621T114848Z
UID:15707-1626076800-1629478800@thelearningmarketplace.com
SUMMARY:Children's Aid x Youthful Savings
DESCRIPTION:Let’s enjoy the summer by connecting with youth across the world. Learners will receive a customized learning plan through our Learner Assessment Test. Youth will complete weekly learning exercises in subject areas like entrepreneurship\, emotional intelligence\, communication skills and storytelling. We will recap the week with virtual live sessions where learners can connect with others. An in-person event will occur at the culmination for all successful business owners. More details to come. \nThis camp is closed to Children’s Aid youth participants only. \nYouthful Savings Foundation will be providing cash prizes throughout the camp.
URL:https://thelearningmarketplace.com/event/childrens-aid-x-youthful-savings/
LOCATION:Virtual
ATTACH;FMTTYPE=image/png:https://thelearningmarketplace.com/wp-content/uploads/2020/05/Untitled-design.png
END:VEVENT
BEGIN:VEVENT
DTSTART;TZID=America/New_York:20210713T130000
DTEND;TZID=America/New_York:20210819T150000
DTSTAMP:20260423T060632
CREATED:20200523T183347Z
LAST-MODIFIED:20210702T142455Z
UID:11654-1626181200-1629385200@thelearningmarketplace.com
SUMMARY:Summer Camp x Fresh Air Fund
DESCRIPTION:Let’s enjoy the summer by connecting with youth across the world. Learners will receive a customized learning plan through our Learner Assessment Test. Youth will complete weekly learning exercises in subject areas like entrepreneurship\, emotional intelligence\, communication skills and storytelling. We will recap the week with virtual live sessions where learners can connect with others. An in-person event will occur at the culmination for all successful business owners at Sauce Pizzeria on August 12th at 1pm. RSVP below. \nThis camp is closed to Fresh Air Fund participants only. \nYouthful Savings Foundation will be providing cash prizes throughout the camp.
URL:https://thelearningmarketplace.com/event/virtual-summer-camp-session-2/
LOCATION:Virtual
END:VEVENT
END:VCALENDAR