BEGIN:VCALENDAR
VERSION:2.0
PRODID:-//The Learning Marketplace - ECPv6.9.1//NONSGML v1.0//EN
CALSCALE:GREGORIAN
METHOD:PUBLISH
X-WR-CALNAME:The Learning Marketplace
X-ORIGINAL-URL:https://thelearningmarketplace.com
X-WR-CALDESC:Events for The Learning Marketplace
REFRESH-INTERVAL;VALUE=DURATION:PT1H
X-Robots-Tag:noindex
X-PUBLISHED-TTL:PT1H
BEGIN:VTIMEZONE
TZID:America/Los_Angeles
BEGIN:DAYLIGHT
TZOFFSETFROM:-0800
TZOFFSETTO:-0700
TZNAME:PDT
DTSTART:20210314T100000
END:DAYLIGHT
BEGIN:STANDARD
TZOFFSETFROM:-0700
TZOFFSETTO:-0800
TZNAME:PST
DTSTART:20211107T090000
END:STANDARD
END:VTIMEZONE
BEGIN:VEVENT
DTSTART;TZID=America/Los_Angeles:20210705T173000
DTEND;TZID=America/Los_Angeles:20210705T193000
DTSTAMP:20260425T193830
CREATED:20210621T114313Z
LAST-MODIFIED:20210621T114313Z
UID:15703-1625506200-1625513400@thelearningmarketplace.com
SUMMARY:Human Rights First x Youthful Savings
DESCRIPTION:Youthful Savings is proud to work with Human Rights First in order to economically empower selected refugee youth. Each youth will go through a 5 week My Own Business Challenge Live session and have the ability to create online businesses on the Youthful Savings Marketplace. Youth will receive capital from the Youthful Savings Foundation. \nThis program is closed to selected Human Rights First youth.
URL:https://thelearningmarketplace.com/event/human-rights-first-x-youthful-savings/
LOCATION:Virtual
ATTACH;FMTTYPE=image/png:https://thelearningmarketplace.com/wp-content/uploads/2020/05/Untitled-design.png
END:VEVENT
END:VCALENDAR