BEGIN:VCALENDAR
VERSION:2.0
PRODID:-//The Learning Marketplace - ECPv6.9.1//NONSGML v1.0//EN
CALSCALE:GREGORIAN
METHOD:PUBLISH
X-WR-CALNAME:The Learning Marketplace
X-ORIGINAL-URL:https://thelearningmarketplace.com
X-WR-CALDESC:Events for The Learning Marketplace
REFRESH-INTERVAL;VALUE=DURATION:PT1H
X-Robots-Tag:noindex
X-PUBLISHED-TTL:PT1H
BEGIN:VTIMEZONE
TZID:America/New_York
BEGIN:DAYLIGHT
TZOFFSETFROM:-0500
TZOFFSETTO:-0400
TZNAME:EDT
DTSTART:20210314T070000
END:DAYLIGHT
BEGIN:STANDARD
TZOFFSETFROM:-0400
TZOFFSETTO:-0500
TZNAME:EST
DTSTART:20211107T060000
END:STANDARD
END:VTIMEZONE
BEGIN:VEVENT
DTSTART;TZID=America/New_York:20210308T200000
DTEND;TZID=America/New_York:20210308T210000
DTSTAMP:20260423T073245
CREATED:20210302T221446Z
LAST-MODIFIED:20210302T221726Z
UID:15527-1615233600-1615237200@thelearningmarketplace.com
SUMMARY:International Women's Day Celebration!
DESCRIPTION:Join a special celebration for our The Learning Marketplace graduates. These amazing young women participated in our summer and fall programs with Children’s Aid NYC\, Fresh Air Fund NYC and Civic Well Being in Santa Monica. On March 8th\, we will celebrate them through a live Q&A. Join in on the fun\, learn more about being a young business owner and celebrate women achievements! \n  \n 
URL:https://thelearningmarketplace.com/event/international-womens-day-celebration/
LOCATION:Virtual
END:VEVENT
END:VCALENDAR