BEGIN:VCALENDAR
VERSION:2.0
PRODID:-//The Learning Marketplace - ECPv6.9.1//NONSGML v1.0//EN
CALSCALE:GREGORIAN
METHOD:PUBLISH
X-WR-CALNAME:The Learning Marketplace
X-ORIGINAL-URL:https://thelearningmarketplace.com
X-WR-CALDESC:Events for The Learning Marketplace
REFRESH-INTERVAL;VALUE=DURATION:PT1H
X-Robots-Tag:noindex
X-PUBLISHED-TTL:PT1H
BEGIN:VTIMEZONE
TZID:America/New_York
BEGIN:DAYLIGHT
TZOFFSETFROM:-0500
TZOFFSETTO:-0400
TZNAME:EDT
DTSTART:20200308T070000
END:DAYLIGHT
BEGIN:STANDARD
TZOFFSETFROM:-0400
TZOFFSETTO:-0500
TZNAME:EST
DTSTART:20201101T060000
END:STANDARD
END:VTIMEZONE
BEGIN:VEVENT
DTSTART;TZID=America/New_York:20201024T150000
DTEND;TZID=America/New_York:20201024T160000
DTSTAMP:20260422T221440
CREATED:20200925T132145Z
LAST-MODIFIED:20201001T170636Z
UID:15374-1603551600-1603555200@thelearningmarketplace.com
SUMMARY:Marketing and Branding for Youthful Savings Marketplace
DESCRIPTION:During this interactive session\, youth that are vendors on our Youthful Savings Marketplace will learn how to market and brand their products and services in order to get ready for the holiday season. We will discuss social media marketing\, branding and email marketing. Special Snap Chat filters will be available to use as well. \nChandelle Wiebe from Snap Inc Philanthropy will be a guest speaker for this virtual session.
URL:https://thelearningmarketplace.com/event/ysm/
LOCATION:Virtual
END:VEVENT
END:VCALENDAR