BEGIN:VCALENDAR
VERSION:2.0
PRODID:-//The Learning Marketplace - ECPv6.9.1//NONSGML v1.0//EN
CALSCALE:GREGORIAN
METHOD:PUBLISH
X-WR-CALNAME:The Learning Marketplace
X-ORIGINAL-URL:https://thelearningmarketplace.com
X-WR-CALDESC:Events for The Learning Marketplace
REFRESH-INTERVAL;VALUE=DURATION:PT1H
X-Robots-Tag:noindex
X-PUBLISHED-TTL:PT1H
BEGIN:VTIMEZONE
TZID:America/Los_Angeles
BEGIN:DAYLIGHT
TZOFFSETFROM:-0800
TZOFFSETTO:-0700
TZNAME:PDT
DTSTART:20200308T100000
END:DAYLIGHT
BEGIN:STANDARD
TZOFFSETFROM:-0700
TZOFFSETTO:-0800
TZNAME:PST
DTSTART:20201101T090000
END:STANDARD
END:VTIMEZONE
BEGIN:VEVENT
DTSTART;TZID=America/Los_Angeles:20200618T130000
DTEND;TZID=America/Los_Angeles:20200716T130000
DTSTAMP:20260422T002053
CREATED:20200414T151903Z
LAST-MODIFIED:20200414T153952Z
UID:11489-1592485200-1594904400@thelearningmarketplace.com
SUMMARY:Virtual Summer Camp
DESCRIPTION:Let’s enjoy the summer by connecting with youth across the world. Learners will receive a customized learning plan through our Learner Assessment Test.  Youth will complete weekly learning exercises in subject areas like entrepreneurship\, emotional intelligence\, communication skills and storytelling. We will recap the week with virtual live sessions where learners can connect with others. \nThis camp is free to all subscribers. \nYouthful Savings Foundation will be providing cash prizes throughout the camp.
URL:https://thelearningmarketplace.com/event/virtual-summer-camp/
LOCATION:Virtual
ATTACH;FMTTYPE=image/jpeg:https://thelearningmarketplace.com/wp-content/uploads/2020/04/Youthful-Savings.jpg
END:VEVENT
END:VCALENDAR