BEGIN:VCALENDAR
VERSION:2.0
PRODID:-//The Learning Marketplace - ECPv6.9.1//NONSGML v1.0//EN
CALSCALE:GREGORIAN
METHOD:PUBLISH
X-ORIGINAL-URL:https://thelearningmarketplace.com
X-WR-CALDESC:Events for The Learning Marketplace
REFRESH-INTERVAL;VALUE=DURATION:PT1H
X-Robots-Tag:noindex
X-PUBLISHED-TTL:PT1H
BEGIN:VTIMEZONE
TZID:America/Chicago
BEGIN:DAYLIGHT
TZOFFSETFROM:-0600
TZOFFSETTO:-0500
TZNAME:CDT
DTSTART:20200308T080000
END:DAYLIGHT
BEGIN:STANDARD
TZOFFSETFROM:-0500
TZOFFSETTO:-0600
TZNAME:CST
DTSTART:20201101T070000
END:STANDARD
END:VTIMEZONE
BEGIN:VEVENT
DTSTART;TZID=America/Chicago:20200425T110000
DTEND;TZID=America/Chicago:20200425T123000
DTSTAMP:20260421T114517
CREATED:20200311T065531Z
LAST-MODIFIED:20200417T164209Z
UID:11220-1587812400-1587817800@thelearningmarketplace.com
SUMMARY:Building Humble Confidence through Economic Empowerment  (Virtual)
DESCRIPTION:This event will teach youth how to build humble confidence through economic empowerment. Learners will receive copies of the Money and Kids and the Integrity\, Trust and Building Humble Confidence learning exercises. Parents and youth are encouraged to join together in order to learn how best to utilize our learning exercises together. \nThe event is free but donations to the Youthful Savings Foundation are encouraged. All donors will receive a free download of the learning exercises. All participants will receive a zoom link 30 minutes prior to the event. \nThis event will be facilitated by Somya Munjal. \nAll donations can be made to paypal.me/YouthfulSavings. \nThis event is rescheduled from the original 4/4/2020 date.
URL:https://thelearningmarketplace.com/event/building-humble-confidence-through-economic-empowerment-2/
LOCATION:Virtual
CATEGORIES:Event
ATTACH;FMTTYPE=image/jpeg:https://thelearningmarketplace.com/wp-content/uploads/edd/2020/03/Money-and-Kids.jpg
END:VEVENT
END:VCALENDAR