BEGIN:VCALENDAR
VERSION:2.0
PRODID:-//The Learning Marketplace - ECPv6.9.1//NONSGML v1.0//EN
CALSCALE:GREGORIAN
METHOD:PUBLISH
X-ORIGINAL-URL:https://thelearningmarketplace.com
X-WR-CALDESC:Events for The Learning Marketplace
REFRESH-INTERVAL;VALUE=DURATION:PT1H
X-Robots-Tag:noindex
X-PUBLISHED-TTL:PT1H
BEGIN:VTIMEZONE
TZID:America/New_York
BEGIN:DAYLIGHT
TZOFFSETFROM:-0500
TZOFFSETTO:-0400
TZNAME:EDT
DTSTART:20190310T070000
END:DAYLIGHT
BEGIN:STANDARD
TZOFFSETFROM:-0400
TZOFFSETTO:-0500
TZNAME:EST
DTSTART:20191103T060000
END:STANDARD
END:VTIMEZONE
BEGIN:VEVENT
DTSTART;TZID=America/New_York:20191011T123000
DTEND;TZID=America/New_York:20191011T180000
DTSTAMP:20260422T051842
CREATED:20190807T125113Z
LAST-MODIFIED:20191011T164119Z
UID:9982-1570797000-1570816800@thelearningmarketplace.com
SUMMARY:My Own Business Challenge x Uncommon Schools
DESCRIPTION:My Own Business Challenge helps youth learn necessary financial education and entrepreneurship skills. This challenge further enhances one’s ability to critically think and create consciously. The challenge is designed to encourage youth to use their energy to solve world problems through the power of entrepreneurship. Learners will walk away with a tangible business and sustainable fiscal responsibility that will help them create and sustain their business idea. Business investment will be provided by the Youthful Savings Foundation. \nThis program is in partnership with Uncommon Schools and part of their 7th and 8th grade math class programming. This interactive experience will be taught by Somya Munjal and Myles Nurse. \nPre-Assessment Test HERE \nPost – Assessment Test HERE
URL:https://thelearningmarketplace.com/event/my-own-business-challenge-x-uncommon-schools/
LOCATION:Chase Bank\, 28 LIberty\, New York\, NY\, 10038
ATTACH;FMTTYPE=image/jpeg:https://thelearningmarketplace.com/wp-content/uploads/2019/07/Capital-One-Instagram-1.jpg
END:VEVENT
END:VCALENDAR