BEGIN:VCALENDAR
VERSION:2.0
PRODID:-//The Learning Marketplace - ECPv6.9.1//NONSGML v1.0//EN
CALSCALE:GREGORIAN
METHOD:PUBLISH
X-ORIGINAL-URL:https://thelearningmarketplace.com
X-WR-CALDESC:Events for The Learning Marketplace
REFRESH-INTERVAL;VALUE=DURATION:PT1H
X-Robots-Tag:noindex
X-PUBLISHED-TTL:PT1H
BEGIN:VTIMEZONE
TZID:America/Los_Angeles
BEGIN:DAYLIGHT
TZOFFSETFROM:-0800
TZOFFSETTO:-0700
TZNAME:PDT
DTSTART:20190310T100000
END:DAYLIGHT
BEGIN:STANDARD
TZOFFSETFROM:-0700
TZOFFSETTO:-0800
TZNAME:PST
DTSTART:20191103T090000
END:STANDARD
END:VTIMEZONE
BEGIN:VEVENT
DTSTART;TZID=America/Los_Angeles:20191001T163000
DTEND;TZID=America/Los_Angeles:20191001T180000
DTSTAMP:20260422T051840
CREATED:20190919T112626Z
LAST-MODIFIED:20190919T185024Z
UID:10127-1569947400-1569952800@thelearningmarketplace.com
SUMMARY:Cultivating Heart Intelligence
DESCRIPTION:Youth will learn about heart-centered decision making and how to prevent the cycle of bullying. Youth are asked to bring a digital download of the Cultivating Heart Intelligence learning exercise found HERE. \nThis event will be facilitated by Danny Donayre. He is the Chief Intuitive Marketing Officer of The Learning Marketplace and a world-class life coach. \nYouth are required to download (on a laptop or iPad) THIS learning exercise.
URL:https://thelearningmarketplace.com/event/cultivating-heart-intelligence-2/
LOCATION:Capital One Cafe Santa Monica\, 401 Broadway\, Santa Monica\, CA\, 90401\, United States
ATTACH;FMTTYPE=image/jpeg:https://thelearningmarketplace.com/wp-content/uploads/2019/09/Heart.jpeg
END:VEVENT
END:VCALENDAR