BEGIN:VCALENDAR
VERSION:2.0
PRODID:-//The Learning Marketplace - ECPv6.9.1//NONSGML v1.0//EN
CALSCALE:GREGORIAN
METHOD:PUBLISH
X-ORIGINAL-URL:https://thelearningmarketplace.com
X-WR-CALDESC:Events for The Learning Marketplace
REFRESH-INTERVAL;VALUE=DURATION:PT1H
X-Robots-Tag:noindex
X-PUBLISHED-TTL:PT1H
BEGIN:VTIMEZONE
TZID:America/Los_Angeles
BEGIN:DAYLIGHT
TZOFFSETFROM:-0800
TZOFFSETTO:-0700
TZNAME:PDT
DTSTART:20190310T100000
END:DAYLIGHT
BEGIN:STANDARD
TZOFFSETFROM:-0700
TZOFFSETTO:-0800
TZNAME:PST
DTSTART:20191103T090000
END:STANDARD
END:VTIMEZONE
BEGIN:VEVENT
DTSTART;TZID=America/Los_Angeles:20190903T103000
DTEND;TZID=America/Los_Angeles:20190903T120000
DTSTAMP:20260422T052901
CREATED:20190607T233038Z
LAST-MODIFIED:20190826T192347Z
UID:9700-1567506600-1567512000@thelearningmarketplace.com
SUMMARY:Building Humble Confidence through Economic Empowerment
DESCRIPTION:This event will teach youth how to build humble confidence through economic empowerment. Learners will receive copies of the Money and Kids and the Integrity\, Trust and Building Humble Confidence learning exercises. This event is made possible through the city of Santa Monica 2019 Wellbeing Microgrant. \nThis event will be facilitated by Somya Munjal.
URL:https://thelearningmarketplace.com/event/building-humble-confidence-through-economic-empowerment/
LOCATION:John Adams Middle School\, 2425 16th St\, Santa Monica\, CA\, 90405
ATTACH;FMTTYPE=image/jpeg:https://thelearningmarketplace.com/wp-content/uploads/2019/03/money-saving-skills.jpg
END:VEVENT
END:VCALENDAR